BEGIN:VCALENDAR
VERSION:2.0
PRODID:-//Sabre//Sabre VObject 4.5.8//EN
CALSCALE:GREGORIAN
BEGIN:VEVENT
UID:sabre-vobject-5a3a53e7-bc6a-45f9-8b71-db83cee458f8
DTSTAMP:20260421T101031Z
SUMMARY:Biofach 2026
DESCRIPTION:Nürnberg\n10.-13. Februar 2026
LOCATION:Nürnberg
DTSTART:20260210T120000Z
DTEND:20260213T120000Z
END:VEVENT
END:VCALENDAR
