BEGIN:VCALENDAR
VERSION:2.0
PRODID:-//Sabre//Sabre VObject 4.5.8//EN
CALSCALE:GREGORIAN
BEGIN:VEVENT
UID:sabre-vobject-2b2fcad0-8786-4baa-8a7d-1749541d9ea2
DTSTAMP:20260421T100934Z
SUMMARY:Interzoo 2026
DESCRIPTION:Nürnberg\n12.-15. Mai 2026
LOCATION:Nürnberg
DTSTART:20260512T120000Z
DTEND:20260515T120000Z
END:VEVENT
END:VCALENDAR
